BEGIN:VCALENDAR
VERSION:2.0
PRODID:-//ceres.rub.de//events//
CALSCALE:GREGORIAN
METHOD:PUBLISH
X-WR-TIMEZONE:UTC
BEGIN:VEVENT
SUMMARY:ThiF Working Group "Metaphor & Formular"
DTSTART:20250127T120000Z
DTEND:20250127T133000Z
DTSTAMP:20260422T044825Z
UID:thif-working-group-metaphor-formular_250127-12149@ceres.rub.de
CATEGORIES:
DESCRIPTION:Meeting of the ThiF (theory in focus) Working Group "Metaphor 
 and Formular".\n\nFor further information or if you wish to participate\, 
 please get in touch with Patrick Krüger.
LOCATION:CERES Palais\, room "Lalibela" (3.11) 
URL:https://sfb1475.ruhr-uni-bochum.de/en/event/thif-working-group-metapho
 r-formular_250127/
END:VEVENT
END:VCALENDAR
