BEGIN:VCALENDAR
VERSION:2.0
PRODID:-//ceres.rub.de//events//
CALSCALE:GREGORIAN
METHOD:PUBLISH
X-WR-TIMEZONE:UTC
BEGIN:VEVENT
SUMMARY:Academic Writing Workshop for ECRs: Developing Writing Routines
DTSTART:20230223T080000Z
DTEND:20230223T153000Z
DTSTAMP:20260420T123518Z
UID:schreibworkshop-ecrs-23-02-2023-9174@ceres.rub.de
CATEGORIES:
DESCRIPTION:Writing\, especially in an academic context\, is complex in th
 at it is influenced not only by the topic\, but also by the type of text\,
  one's own experiences\, and the professional and personal framework condi
 tions (supervisor\, general work\, and life). The workshop is about develo
 ping writing routines or reflecting on existing writing routines and adapt
 ing them if necessary. Therefore\, three aspects will be addressed:\n\n\n	
 Preparation: How can I organize myself and my material to begin writing pr
 oduc-tively?\n	Feedback: How and where can I get goal-oriented feedback an
 d how can I give it?\n	Revision: According to which criteria and decisions
  do I want to revise my text and how?\n\n\nFor all aspects there will be s
 hort inputs and sufficient practice and reflection phases.\n\nPreliminary 
 Workshop Program\n\nTrainer: André Deutscher\n\n\n	\n		\n			\n			09:00 
 – 10:30\n			\n			Introduction + Reflecting your own writing + short brea
 k\n		\n		\n			10:30 – 12:00\n			From idea to text\n		\n		\n			12:00 – 
 13:00\n			Lunch break\n		\n		\n			13:00 – 14:00\n			Feedback + short bre
 ak\n		\n		\n			14:00 – 15:00\n			Revision + short break\n		\n		\n			15:0
 0 – 16:15\n			Conclusion\n		\n	\n\n\nOrganizational information\n\nRegis
 tration: Please confirm your participation until MON\, 13 FEB 2023 with a 
 short email to Maren.Jordan@rub.de (or via the Element-chat)\n\nBring alon
 g: Laptop/tablet and/or pencil + paper\n\nQuestions? Send us an E-mail An
 dre.Deutscher@rub.de / Maren.jordan@rub.de\n\n \n\nAbout: André Deutsche
 r\, M.A.\, was a writing tutor at the RUB Writing Center and has now been 
 working there as a research assistant for six years. He gives workshops an
 d consultations on all topics of academic writing.
LOCATION:CERES-Palais\, Raum "Ruhrpott" (4.13)
URL:https://sfb1475.ruhr-uni-bochum.de/de/veranstaltung/schreibworkshop-ec
 rs-23-02-2023/
END:VEVENT
END:VCALENDAR
