BEGIN:VCALENDAR
VERSION:2.0
PRODID:-//ceres.rub.de//events//
CALSCALE:GREGORIAN
METHOD:PUBLISH
X-WR-TIMEZONE:UTC
BEGIN:VEVENT
SUMMARY:Ringvorlesung: Die Metapher: Linguistische\, Kulturwissenschaftlic
 he und Literaturwissenschaftliche Perspektiven
DTSTART:20230126T150000Z
DTEND:20230126T170000Z
DTSTAMP:20260425T175619Z
UID:ringvorlesung-metapher-26-01-2023-8487@ceres.rub.de
CATEGORIES:
DESCRIPTION:Diese Sitzung:\nProf. Dr. Manuel Baumbach\, Ruhr-Universität 
 Bochum\, Fakultät für Philologie\, Seminar für Klassische Philologie: 
 „Die Vergleiche in den Epen Homers“\n\nDie Metapher ist ein klassische
 r Gegenstand der geisteswissenschaftlichen Forschung. Dabei ist allerdings
  ein empirisches Defizit zu konstatieren. Während Philosophen und Psychol
 inguisten häufig mit konstruierten Beispielen arbeiten\, wählen Literatu
 rwissenschaftlerinnen aus den vielen Metaphern eines Textes nur einen Bruc
 hteil aus. Die Vortragenden dieser Ringvorlesung verfolgen\, u. a. mittels
  konsequenter Einbindung computerlinguistischer Verfahren\, einen ebenso e
 mpirischen wie systematischen Ansatz\, der möglichst alle oder viele Meta
 phern eines Textes oder eines Textkorpus berücksichtigt und schwierige Gr
 enzfälle nicht ausblendet. Die Vorlesung wendet sich an Studierende\, die
  Interesse an einer interdisziplinären und multiperspektivischen Annäher
 ung an das faszinierende Phänomen der Metapher haben.\n\nWann: donnerstag
 s\, 16–18 Uhr (im Wintersemester 2023)\nWo: HGB 40
LOCATION:HGB 40
URL:https://sfb1475.ruhr-uni-bochum.de/de/veranstaltung/ringvorlesung-meta
 pher-26-01-2023/
END:VEVENT
END:VCALENDAR
