BEGIN:VCALENDAR
VERSION:2.0
PRODID:-//ceres.rub.de//events//
CALSCALE:GREGORIAN
METHOD:PUBLISH
X-WR-TIMEZONE:UTC
BEGIN:VEVENT
SUMMARY:Sections' Meetings
DTSTART:20240115T133000Z
DTEND:20240115T150000Z
DTSTAMP:20260424T063951Z
UID:monday-meeting-15-01-2024-10023@ceres.rub.de
CATEGORIES:
DESCRIPTION:individually organized by each section\n\nThe individual sessi
 ons will take place in:\n\n\n	Section A - ZOOM\n	Section B - Room 4.13\, C
 ERES\n	Section C - ZOOM\n
LOCATION:CERES-Palais\, Raum "Ruhrpott" (4.13)
URL:https://sfb1475.ruhr-uni-bochum.de/de/veranstaltung/monday-meeting-15-
 01-2024/
END:VEVENT
END:VCALENDAR
